BEGIN:VCALENDAR
VERSION:2.0
PRODID:-//Library Market//iCal Export//EN
BEGIN:VEVENT
SUMMARY:Low Sugar Popsicle Make &amp; Take Workshop
UID:16921
DTSTAMP:20260425T191300Z
DTSTART:20260723T220000Z
DTEND:20260723T233000Z
LOCATION:Georgetown Township Public Library, 1525 Baldwin, Jenison, MI 494
 28, United States
ROOM: Children&#039;s Program Room
DESCRIPTION:Get ready for a fun, hands-on class where families will laugh,
  learn, and see just how much sugar is hiding in everyday foods. You&#039;
 ll enjoy a refreshing popsicle in class, then get to experiment with creat
 ing your own healthy popsicle flavors to take home. Along the way, you&#03
 9;ll pick up easy, real-life tips for cutting back on added sugars.  Ple
 ase sign up each person attending the class. An adult must sign up and att
 end with youth, no drop offs will be permitted.  If you find you are unab
 le to attend please cancel your sign up so that those on the waitlist may 
 attend. 
URL:https://georgetownpl.librarycalendar.com/event/low-sugar-popsicle-make
 -take-workshop-16921
END:VEVENT
END:VCALENDAR
