BEGIN:VCALENDAR
VERSION:2.0
PRODID:-//Library Market//iCal Export//EN
BEGIN:VEVENT
SUMMARY:Sensory Play
UID:16779
DTSTAMP:20260423T214600Z
DTSTART:20260814T143000Z
DTEND:20260814T153000Z
LOCATION:Georgetown Township Public Library, 1525 Baldwin, Jenison, MI 494
 28, United States
ROOM: Children&#039;s Program Room
DESCRIPTION:
URL:https://georgetownpl.librarycalendar.com/event/sensory-play-16779
END:VEVENT
END:VCALENDAR
