BEGIN:VCALENDAR
VERSION:2.0
PRODID:-//Library Market//iCal Export//EN
BEGIN:VEVENT
SUMMARY:Purposeful Play
UID:16776
DTSTAMP:20260424T040200Z
DTSTART:20260807T143000Z
DTEND:20260807T153000Z
LOCATION:Georgetown Township Public Library, 1525 Baldwin, Jenison, MI 494
 28, United States
ROOM: Children&#039;s Program Room
DESCRIPTION:
URL:https://georgetownpl.librarycalendar.com/event/purposeful-play-16776
END:VEVENT
END:VCALENDAR
