BEGIN:VCALENDAR
VERSION:2.0
PRODID:-//Library Market//iCal Export//EN
BEGIN:VEVENT
SUMMARY:Cribbage Club
UID:16745
DTSTAMP:20260423T103900Z
DTSTART:20260714T140000Z
DTEND:20260714T153000Z
LOCATION:Georgetown Township Public Library, 1525 Baldwin, Jenison, MI 494
 28, United States
ROOM: Meeting Room AB
DESCRIPTION:Drop in and play cribbage with the GTPL community. Cribbage be
 gan in 17th-century England and has relatively few rules. Each game is abo
 ut 30 minutes. Beginners will be taught to play and experienced players ar
 e welcome. We meet on the 2nd Tuesday of the month at 10:00 AM and the 4t
 h Wednesday of the Month at 7 PM.
URL:https://georgetownpl.librarycalendar.com/event/cribbage-club-16745
END:VEVENT
END:VCALENDAR
