BEGIN:VCALENDAR
VERSION:2.0
PRODID:-//Library Market//iCal Export//EN
BEGIN:VEVENT
SUMMARY:Music &amp; Movement
UID:16743
DTSTAMP:20260421T135500Z
DTSTART:20260417T143000Z
DTEND:20260417T150000Z
LOCATION:Georgetown Township Public Library, 1525 Baldwin, Jenison, MI 494
 28, United States
ROOM: Children&#039;s Program Room
DESCRIPTION:A new kind of storytime! This program, geared for kids age 12 
 months to 5 years, offers early literacy benefits while focusing on music 
 and movement. Perfect for kids who can&#039;t quite sit through a traditio
 nal storytime, or anyone who loves to move! Children of all ages welcome.Â
  
URL:https://georgetownpl.librarycalendar.com/event/music-movement-16743
END:VEVENT
END:VCALENDAR
