BEGIN:VCALENDAR
VERSION:2.0
PRODID:-//Library Market//iCal Export//EN
BEGIN:VEVENT
SUMMARY:Community Yoga Class
UID:16579
DTSTAMP:20260424T023200Z
DTSTART:20260701T223000Z
DTEND:20260701T233000Z
LOCATION:Georgetown Township Public Library, 1525 Baldwin, Jenison, MI 494
 28, United States
ROOM: Lower Level Program Room (Basement)
DESCRIPTION:
URL:https://georgetownpl.librarycalendar.com/event/community-yoga-class-16
 579
END:VEVENT
END:VCALENDAR
